BEGIN:VCALENDAR
VERSION:2.0
PRODID:-//ABSOLUTE RUN Düsseldorf - ECPv6.15.20//NONSGML v1.0//EN
CALSCALE:GREGORIAN
METHOD:PUBLISH
X-WR-CALNAME:ABSOLUTE RUN Düsseldorf
X-ORIGINAL-URL:https://www.absolute-run-duesseldorf.de
X-WR-CALDESC:Veranstaltungen für ABSOLUTE RUN Düsseldorf
REFRESH-INTERVAL;VALUE=DURATION:PT1H
X-Robots-Tag:noindex
X-PUBLISHED-TTL:PT1H
BEGIN:VTIMEZONE
TZID:Europe/Berlin
BEGIN:DAYLIGHT
TZOFFSETFROM:+0100
TZOFFSETTO:+0200
TZNAME:CEST
DTSTART:20240331T010000
END:DAYLIGHT
BEGIN:STANDARD
TZOFFSETFROM:+0200
TZOFFSETTO:+0100
TZNAME:CET
DTSTART:20241027T010000
END:STANDARD
BEGIN:DAYLIGHT
TZOFFSETFROM:+0100
TZOFFSETTO:+0200
TZNAME:CEST
DTSTART:20250330T010000
END:DAYLIGHT
BEGIN:STANDARD
TZOFFSETFROM:+0200
TZOFFSETTO:+0100
TZNAME:CET
DTSTART:20251026T010000
END:STANDARD
BEGIN:DAYLIGHT
TZOFFSETFROM:+0100
TZOFFSETTO:+0200
TZNAME:CEST
DTSTART:20260329T010000
END:DAYLIGHT
BEGIN:STANDARD
TZOFFSETFROM:+0200
TZOFFSETTO:+0100
TZNAME:CET
DTSTART:20261025T010000
END:STANDARD
END:VTIMEZONE
BEGIN:VEVENT
DTSTART;TZID=Europe/Berlin:20250316T093000
DTEND;TZID=Europe/Berlin:20250316T123000
DTSTAMP:20260421T152040
CREATED:20241216T102846Z
LAST-MODIFIED:20250313T113954Z
UID:5690-1742117400-1742128200@www.absolute-run-duesseldorf.de
SUMMARY:Sunday Community Run mit New Balance Special & Kö Meile
DESCRIPTION:Sunday Community Run mit New Balance Special und Kö Meile an der Jugendherberge \n  \nWann: 16.03.2025 | Treffen und Testschuhausgabe ab 09:30 Uhr | Laufstart 10:00 Uhr \nWo: Jugendherberge Düsseldorf in Oberkassel direkt am Rhein \nTest & Try: Dieses Mal mit der Firma New Balance und der Kö Meile \nSpendenaktion: freiwillig für „Kilometer für Kinder“ \n  \nJede/r ist herzlich willkommen mitzulaufen. \nImmer am 3. Sonntag im Monat laufen wir\, ab 10:00 Uhr\, in Tempogruppen zwischen 4:30min/km und 8:00min/km plus. Die Streckenlänge kann dabei ab 30 Minuten und aufwärts individuell variiert werden. \nDer Run ist kostenfrei. Meldet Euch für eine bessere Planbarkeit aber bitte hierüber an. Wir freuen uns auf Euch. \nEure Teilnahme wird mit einem interessanten Bonusprogramm belohnt. \n  \nInfos zur Spendenaktion „Kilometer für Kinder“ \n \n„SICH BEWEGEN UND ETWAS BEWEGEN“ \ndas ist der prägende Slogan von KILOMETER FÜR KINDER. Diese sportliche Charity-Initiative ist der wichtigste Teil der gemeinnützigen Organisation netzwerk.SOZIAL und seit fast 8 Jahren im gesamten deutschsprachigen Raum aktiv. \nAlle weiteren Infos dazu findet hier.
URL:https://www.absolute-run-duesseldorf.de/veranstaltungen/sunday-community-run-mit-new-balance-special/
LOCATION:Jugendherberge Düsseldorf-Oberkassel\, Düsseldorfer Straße 1\, Düsseldorf\, 40545\, Deutschland
CATEGORIES:ABSOLUTE RUN Store
ATTACH;FMTTYPE=image/jpeg:https://www.absolute-run-duesseldorf.de/wp-content/uploads/2024/12/DL_03842-scaled-e1739373180127.jpg
END:VEVENT
END:VCALENDAR