BEGIN:VCALENDAR
VERSION:2.0
PRODID:-//ABSOLUTE RUN Düsseldorf - ECPv6.15.20//NONSGML v1.0//EN
CALSCALE:GREGORIAN
METHOD:PUBLISH
X-ORIGINAL-URL:https://www.absolute-run-duesseldorf.de
X-WR-CALDESC:Veranstaltungen für ABSOLUTE RUN Düsseldorf
REFRESH-INTERVAL;VALUE=DURATION:PT1H
X-Robots-Tag:noindex
X-PUBLISHED-TTL:PT1H
BEGIN:VTIMEZONE
TZID:Europe/Berlin
BEGIN:DAYLIGHT
TZOFFSETFROM:+0100
TZOFFSETTO:+0200
TZNAME:CEST
DTSTART:20240331T010000
END:DAYLIGHT
BEGIN:STANDARD
TZOFFSETFROM:+0200
TZOFFSETTO:+0100
TZNAME:CET
DTSTART:20241027T010000
END:STANDARD
BEGIN:DAYLIGHT
TZOFFSETFROM:+0100
TZOFFSETTO:+0200
TZNAME:CEST
DTSTART:20250330T010000
END:DAYLIGHT
BEGIN:STANDARD
TZOFFSETFROM:+0200
TZOFFSETTO:+0100
TZNAME:CET
DTSTART:20251026T010000
END:STANDARD
BEGIN:DAYLIGHT
TZOFFSETFROM:+0100
TZOFFSETTO:+0200
TZNAME:CEST
DTSTART:20260329T010000
END:DAYLIGHT
BEGIN:STANDARD
TZOFFSETFROM:+0200
TZOFFSETTO:+0100
TZNAME:CET
DTSTART:20261025T010000
END:STANDARD
END:VTIMEZONE
BEGIN:VEVENT
DTSTART;TZID=Europe/Berlin:20251001T183000
DTEND;TZID=Europe/Berlin:20251001T203000
DTSTAMP:20260421T043113
CREATED:20250822T111818Z
LAST-MODIFIED:20251001T135601Z
UID:7360-1759343400-1759350600@www.absolute-run-duesseldorf.de
SUMMARY:Community Run mit Asics\, dem neuen Megablast und der Tokyo Serie
DESCRIPTION:Wann: 01.10.2025 | Treffen und Testschuhausgabe ab 18:30 Uhr | Laufstart 19:00 Uhr \nWo: Roßstraße 69 direkt an unserem Store \nAnmeldung: Kostenfrei\, aber bitte für eine bessere Planung anmelden. \nTest & Try: Dieses Mal mit der Firma Asics und dem neuen Megablast sowie weitere Schuhe aus der Tokyo Serie \nSpendenaktion: freiwillig für „Kilometer für Kinder“ \n \n  \nFeiert mit uns gemeinsam und der Firma Asics den Launch des neuen Megablast | Ab 19:00 Uhr laufen wir\, in Tempogruppen zwischen 5:30min/km und 7:00min/km 30 und 60 Minuten. \n  \nDer Run ist kostenfrei\, meldet euch aber bitte für eine bessere Planung an! Wir freuen uns auf Euch. \nEure Teilnahme wird mit einem interessanten Bonusprogramm belohnt. \nBagdrop und Getränkeversorgung vor Ort. \n  \nInfos zur Spendenaktion „Kilometer für Kinder“ \n \n„SICH BEWEGEN UND ETWAS BEWEGEN“ \ndas ist der prägende Slogan von KILOMETER FÜR KINDER. Diese sportliche Charity-Initiative ist der wichtigste Teil der gemeinnützigen Organisation netzwerk.SOZIAL und seit fast 8 Jahren im gesamten deutschsprachigen Raum aktiv. \nAlle weiteren Infos dazu findet hier.
URL:https://www.absolute-run-duesseldorf.de/veranstaltungen/community-run-mit-asics-dem-neuen-megablast-und-der-tokyo-serie/
LOCATION:ABSOLUTE RUN Düsseldorf\, Roßstraße 69\, Düsseldorf\, 40476
CATEGORIES:ABSOLUTE RUN Store
ATTACH;FMTTYPE=image/jpeg:https://www.absolute-run-duesseldorf.de/wp-content/uploads/2025/04/Absolute_RUN_Community_Run-e1745425557717.jpg
END:VEVENT
BEGIN:VEVENT
DTSTART;TZID=Europe/Berlin:20251019T093000
DTEND;TZID=Europe/Berlin:20251019T123000
DTSTAMP:20260421T043113
CREATED:20250822T114002Z
LAST-MODIFIED:20251013T153009Z
UID:7364-1760866200-1760877000@www.absolute-run-duesseldorf.de
SUMMARY:Sunday Community Run mit Adidas Special
DESCRIPTION:Sunday Community Run mit Adidas Special an der Jugendherberge \n  \nWann: 19.10.2025 | Treffen und Testschuhausgabe ab 09:30 Uhr | Laufstart 10:00 Uhr \nWo: Jugendherberge Düsseldorf in Oberkassel direkt am Rhein \nAnmeldung: Kostenfrei\, aber bitte für eine bessere Planung anmelden. \nTest & Try: Dieses Mal mit Adidas (diverse Modelle: Boston 13 / Pro 4 / Adistar BYD / Adistar Charge / Supernova Charge / Supernova Rise GTX) \nSpendenaktion: freiwillig für „Kilometer für Kinder“ \n  \nAm 3. Sonntag im Monat\, laufen wir\, ab 10:00 Uhr\, in Tempogruppen zwischen 4:30min/km und 8:00min/km plus. Die Streckenlänge kann dabei ab 30 Minuten und aufwärts individuell variiert werden. \nDer Run ist kostenfrei. Meldet Euch für eine bessere Planbarkeit aber bitte hierüber an. Wir freuen uns auf Euch. \nEure Teilnahme wird mit einem interessanten Bonusprogramm belohnt. \nBagdrop und Getränkeversorgung vor Ort. \n  \nInfos zur Spendenaktion „Kilometer für Kinder“ \n \n„SICH BEWEGEN UND ETWAS BEWEGEN“ \ndas ist der prägende Slogan von KILOMETER FÜR KINDER. Diese sportliche Charity-Initiative ist der wichtigste Teil der gemeinnützigen Organisation netzwerk.SOZIAL und seit fast 8 Jahren im gesamten deutschsprachigen Raum aktiv. \nAlle weiteren Infos dazu findet hier.
URL:https://www.absolute-run-duesseldorf.de/veranstaltungen/sunday-community-run-mit-adidas-special-2/
LOCATION:Jugendherberge Düsseldorf-Oberkassel\, Düsseldorfer Straße 1\, Düsseldorf\, 40545\, Deutschland
CATEGORIES:ABSOLUTE RUN Store
ATTACH;FMTTYPE=image/jpeg:https://www.absolute-run-duesseldorf.de/wp-content/uploads/2025/04/Absolute_RUN_Community_Run-e1745425557717.jpg
END:VEVENT
BEGIN:VEVENT
DTSTART;TZID=Europe/Berlin:20251029T183000
DTEND;TZID=Europe/Berlin:20251029T203000
DTSTAMP:20260421T043113
CREATED:20250911T160706Z
LAST-MODIFIED:20251027T104423Z
UID:7452-1761762600-1761769800@www.absolute-run-duesseldorf.de
SUMMARY:Community Run mit True Motion und dem neuen Solo 2
DESCRIPTION:Wann: 29.10.2025 | Treffen und Testschuhausgabe ab 18:30 Uhr | Laufstart 19:00 Uhr \nWo: Roßstraße 69 direkt an unserem Store \nAnmeldung: Kostenfrei\, aber bitte für eine bessere Planung anmelden. \nTest & Try: Dieses Mal mit der Firma True Motion und dem neuen Solo 2 \nSpendenaktion: freiwillig für „Kilometer für Kinder“ \n \n  \nFeiert mit uns gemeinsam und der Firma True Motion den Launch des Solo 2 | Ab 19:00 Uhr laufen wir\, in Tempogruppen zwischen 5:30min/km und 7:00min/km 30 und 60 Minuten. \n  \nDer Run ist kostenfrei\, meldet euch aber bitte für eine bessere Planung an! Wir freuen uns auf Euch. \nEure Teilnahme wird mit einem interessanten Bonusprogramm belohnt. \nBagdrop und Getränkeversorgung vor Ort. \n  \nInfos zur Spendenaktion „Kilometer für Kinder“ \n \n„SICH BEWEGEN UND ETWAS BEWEGEN“ \ndas ist der prägende Slogan von KILOMETER FÜR KINDER. Diese sportliche Charity-Initiative ist der wichtigste Teil der gemeinnützigen Organisation netzwerk.SOZIAL und seit fast 8 Jahren im gesamten deutschsprachigen Raum aktiv. \nAlle weiteren Infos dazu findet hier.
URL:https://www.absolute-run-duesseldorf.de/veranstaltungen/community-run-mit-true-motion-und-dem-neuen-solo-2/
LOCATION:ABSOLUTE RUN Düsseldorf\, Roßstraße 69\, Düsseldorf\, 40476
CATEGORIES:ABSOLUTE RUN Store
ATTACH;FMTTYPE=image/jpeg:https://www.absolute-run-duesseldorf.de/wp-content/uploads/2025/04/Absolute_RUN_Community_Run-e1745425557717.jpg
END:VEVENT
END:VCALENDAR