BEGIN:VCALENDAR
VERSION:2.0
PRODID:-//ABSOLUTE RUN Düsseldorf - ECPv6.15.20//NONSGML v1.0//EN
CALSCALE:GREGORIAN
METHOD:PUBLISH
X-ORIGINAL-URL:https://www.absolute-run-duesseldorf.de
X-WR-CALDESC:Veranstaltungen für ABSOLUTE RUN Düsseldorf
REFRESH-INTERVAL;VALUE=DURATION:PT1H
X-Robots-Tag:noindex
X-PUBLISHED-TTL:PT1H
BEGIN:VTIMEZONE
TZID:Europe/Berlin
BEGIN:DAYLIGHT
TZOFFSETFROM:+0100
TZOFFSETTO:+0200
TZNAME:CEST
DTSTART:20250330T010000
END:DAYLIGHT
BEGIN:STANDARD
TZOFFSETFROM:+0200
TZOFFSETTO:+0100
TZNAME:CET
DTSTART:20251026T010000
END:STANDARD
BEGIN:DAYLIGHT
TZOFFSETFROM:+0100
TZOFFSETTO:+0200
TZNAME:CEST
DTSTART:20260329T010000
END:DAYLIGHT
BEGIN:STANDARD
TZOFFSETFROM:+0200
TZOFFSETTO:+0100
TZNAME:CET
DTSTART:20261025T010000
END:STANDARD
BEGIN:DAYLIGHT
TZOFFSETFROM:+0100
TZOFFSETTO:+0200
TZNAME:CEST
DTSTART:20270328T010000
END:DAYLIGHT
BEGIN:STANDARD
TZOFFSETFROM:+0200
TZOFFSETTO:+0100
TZNAME:CET
DTSTART:20271031T010000
END:STANDARD
END:VTIMEZONE
BEGIN:VTIMEZONE
TZID:Europe/Paris
BEGIN:DAYLIGHT
TZOFFSETFROM:+0100
TZOFFSETTO:+0200
TZNAME:CEST
DTSTART:20250330T010000
END:DAYLIGHT
BEGIN:STANDARD
TZOFFSETFROM:+0200
TZOFFSETTO:+0100
TZNAME:CET
DTSTART:20251026T010000
END:STANDARD
BEGIN:DAYLIGHT
TZOFFSETFROM:+0100
TZOFFSETTO:+0200
TZNAME:CEST
DTSTART:20260329T010000
END:DAYLIGHT
BEGIN:STANDARD
TZOFFSETFROM:+0200
TZOFFSETTO:+0100
TZNAME:CET
DTSTART:20261025T010000
END:STANDARD
BEGIN:DAYLIGHT
TZOFFSETFROM:+0100
TZOFFSETTO:+0200
TZNAME:CEST
DTSTART:20270328T010000
END:DAYLIGHT
BEGIN:STANDARD
TZOFFSETFROM:+0200
TZOFFSETTO:+0100
TZNAME:CET
DTSTART:20271031T010000
END:STANDARD
END:VTIMEZONE
BEGIN:VEVENT
DTSTART;TZID=Europe/Berlin:20260304T183000
DTEND;TZID=Europe/Berlin:20260304T203000
DTSTAMP:20260420T204340
CREATED:20260121T113610Z
LAST-MODIFIED:20260228T121028Z
UID:8889-1772649000-1772656200@www.absolute-run-duesseldorf.de
SUMMARY:Community Run mit Asics Special & dem neuen Superblast 3
DESCRIPTION:Wann: 04.03.2026 | Treffen und Testschuhausgabe ab 18:30 Uhr | Laufstart 19:00 Uhr \nWo: Roßstraße 69 direkt an unserem Store \nAnmeldung: Kostenfrei\, aber bitte für eine bessere Planung anmelden. \nSpecial: Test & Try mit Asics und dem neuen Superblast 3 \nSpendenaktion: freiwillig für „Kilometer für Kinder“ / mehr Infos hier  \n \nAb 19:00 Uhr laufen wir\, in Tempogruppen zwischen 5:00min/km und 7:00min/km\, 30 und 60 Minuten. \nDer Run ist kostenfrei\, meldet euch aber bitte für eine bessere Planung an! Wir freuen uns auf Euch. \nEure Teilnahme wird mit einem interessanten Bonusprogramm belohnt. \nBagdrop und Getränkeversorgung vor Ort. \n  \nInfos zur Spendenaktion „Kilometer für Kinder“ \n \n„SICH BEWEGEN UND ETWAS BEWEGEN“ \ndas ist der prägende Slogan von KILOMETER FÜR KINDER. Diese sportliche Charity-Initiative ist der wichtigste Teil der gemeinnützigen Organisation netzwerk.SOZIAL und seit fast 8 Jahren im gesamten deutschsprachigen Raum aktiv. \nmehr Infos hier 
URL:https://www.absolute-run-duesseldorf.de/veranstaltungen/community-run-mit-asics-special-dem-neuen-superblast-3/
LOCATION:ABSOLUTE RUN Düsseldorf\, Roßstraße 69\, Düsseldorf\, 40476
CATEGORIES:ABSOLUTE RUN Store
END:VEVENT
BEGIN:VEVENT
DTSTART;TZID=Europe/Berlin:20260315T093000
DTEND;TZID=Europe/Berlin:20260315T123000
DTSTAMP:20260420T204340
CREATED:20260121T114418Z
LAST-MODIFIED:20260312T071753Z
UID:8892-1773567000-1773577800@www.absolute-run-duesseldorf.de
SUMMARY:Sunday Community Run mit New Balance Special & dem neuen 1080v15
DESCRIPTION:Sunday Community Run mit New Balance Special und dem neuen 1080v15 an der Jugendherberge \n  \nWann: 15.03.2026 | Treffen und Testschuhausgabe ab 09:30 Uhr | Laufstart 10:00 Uhr \nWo: Jugendherberge Düsseldorf in Oberkassel direkt am Rhein \nAnmeldung: Kostenfrei\, aber bitte für eine bessere Planung anmelden. \nTest & Try: Dieses Mal mit New Balance & dem neuen 1080v15 sowie vielen weiteren Modellen \nSpendenaktion: freiwillig für „Kilometer für Kinder“ / mehr Infos hier  \n \nAm 3. Sonntag im Monat\, laufen wir\, ab 10:00 Uhr\, in Tempogruppen zwischen 4:30min/km und 8:00min/km plus. Die Streckenlänge kann dabei ab 30 Minuten und aufwärts individuell variiert werden. \nDer Run ist kostenfrei. Meldet Euch für eine bessere Planbarkeit aber bitte hierüber an. Wir freuen uns auf Euch. \nEure Teilnahme wird mit einem interessanten Bonusprogramm belohnt. \nBagdrop und Getränkeversorgung vor Ort. \n  \nInfos zur Spendenaktion „Kilometer für Kinder“ \n \n„SICH BEWEGEN UND ETWAS BEWEGEN“ \ndas ist der prägende Slogan von KILOMETER FÜR KINDER. Diese sportliche Charity-Initiative ist der wichtigste Teil der gemeinnützigen Organisation netzwerk.SOZIAL und seit fast 8 Jahren im gesamten deutschsprachigen Raum aktiv. \nmehr Infos hier 
URL:https://www.absolute-run-duesseldorf.de/veranstaltungen/sunday-community-run-mit-new-balance-special-dem-neuen-1080v15/
LOCATION:Jugendherberge Düsseldorf-Oberkassel\, Düsseldorfer Straße 1\, Düsseldorf\, 40545\, Deutschland
CATEGORIES:ABSOLUTE RUN Store
ATTACH;FMTTYPE=image/jpeg:https://www.absolute-run-duesseldorf.de/wp-content/uploads/2025/04/Absolute_RUN_Community_Run-e1745425557717.jpg
END:VEVENT
BEGIN:VEVENT
DTSTART;TZID=Europe/Paris:20260317T190000
DTEND;TZID=Europe/Paris:20260526T200000
DTSTAMP:20260420T204340
CREATED:20160113T114306Z
LAST-MODIFIED:20260112T124557Z
UID:2173-1773774000-1779825600@www.absolute-run-duesseldorf.de
SUMMARY:Anfängerlaufkurs "0 auf 30"
DESCRIPTION:Unser Lauftraining für Anfänger in Düsseldorf. Ein Laufkurs für alle\, die mit dem Laufen beginnen möchten. \nZielstellung: schrittweise Heranführung an ein 30-minütiges Durchlaufen \n  \nDauer:          17.03. bis 26.05.2026 \n07.04. keine Kurseinheit \nZeit:              dienstags 19:00 Uhr \nTreffpunkt:  Rheinpark ab Theodor-Heuss-Brücke \n \nDer Kurs ist krankenkassenzertifiziert. \n  \nInhalt: \n\n1x wöchentlich betreute Trainingseinheit unter professioneller Anleitung\nschrittweise Heranführung an ein dauerhaftes und gesundes Laufen\nLaufen in der Gruppe\nfunktionales Ergänzungstraining zur Unterstützung des Bewegungsapparates\naktive Laufstilschulung und Koordinationstraining\nTrainingsplan über die Dauer des Kurses\n\n  \nVoraussetzungen: \n\nLaufanfänger – keine Laufvorerfahrung nötig\nkeine Verletzungen\nZeit für mind. eine weitere selbstständige Laufeinheit pro Woche\n\n  \nPreis € 120\,- \n[vc_progress_bar values=“%5B%7B%22value%22%3A%2225%22%2C%22color%22%3A%22bar_turquoise%22%7D%5D“ units=“%“ title=“Auslastung“]
URL:https://www.absolute-run-duesseldorf.de/veranstaltungen/anfaengerlaufkurs-0-auf-30-ii/
LOCATION:Rheinpark\, Robert-Lehr-Ufer 23\, Düsseldorf\, 40474
CATEGORIES:ABSOLUTE RUN Academy,Anfänger
ATTACH;FMTTYPE=image/jpeg:https://www.absolute-run-duesseldorf.de/wp-content/uploads/2024/11/Slider_Academy-scaled.jpg
ORGANIZER;CN="ABSOLUTE RUN Academy":MAILTO:academy@absolute-run-duesseldorf.de
END:VEVENT
BEGIN:VEVENT
DTSTART;TZID=Europe/Berlin:20260318T180000
DTEND;TZID=Europe/Berlin:20260318T203000
DTSTAMP:20260420T204340
CREATED:20260218T155122Z
LAST-MODIFIED:20260316T152739Z
UID:9167-1773856800-1773865800@www.absolute-run-duesseldorf.de
SUMMARY:CR x D.RUN on Tour bei Uniper
DESCRIPTION:Community Run „on Tour“ | ABSOLUTE RUN x D.RUN \n \nSpecial Event zum Uniper Marathon Düsseldorf 2026  \nGastgeber: Uniper Deutschland \n  \nWann: 18.03.2026 | Treffen ab 18:00 Uhr | Laufstart 19:00 Uhr \nWo: Uniper Caffè Dallucci im Float-Gebäude\, Franziusstraße 12\, 40219 Düsseldorf \nAnmeldung: Kostenfrei\, aber bitte für eine bessere Planung anmelden. \nSpecial:  Top Marathonprofi Hendrik Pfeiffer (Uniper D.Running Team/ Düsseldorf Athletics) und sein Trainer Timo Kuhlmann \nAb ca.18:20 kurze Talkrunde\, danach Meet & Greet\, Fotos\, Autogramme \nBagdrop und Getränkeversorgung vor Ort \nSpendenaktion: freiwillig für „Kilometer für Kinder“ / mehr Infos hier  \n  \n \nAb 19:00 Uhr laufen wir\, in Tempogruppen zwischen 5:00min/km und 7:00min/km\, 30 und 60 Minuten. \nDer Run ist kostenfrei. Meldet Euch für eine bessere Planbarkeit aber bitte hierüber an. Wir freuen uns auf Euch. \nEure Teilnahme wird mit einem interessanten Bonusprogramm belohnt. \n  \nInfos zur Spendenaktion „Kilometer für Kinder“ \n \n„SICH BEWEGEN UND ETWAS BEWEGEN“ \ndas ist der prägende Slogan von KILOMETER FÜR KINDER. Diese sportliche Charity-Initiative ist der wichtigste Teil der gemeinnützigen Organisation netzwerk.SOZIAL und seit fast 8 Jahren im gesamten deutschsprachigen Raum aktiv. \nmehr Infos hier 
URL:https://www.absolute-run-duesseldorf.de/veranstaltungen/cr-x-d-run-on-tour-bei-uniper/
LOCATION:Uniper SE Caffè Dallucci\, Franziusstraße 12\, Düsseldorf\, 40219\, Germany
CATEGORIES:ABSOLUTE RUN Store
ATTACH;FMTTYPE=image/jpeg:https://www.absolute-run-duesseldorf.de/wp-content/uploads/2025/04/Absolute_RUN_Community_Run-e1745425557717.jpg
END:VEVENT
END:VCALENDAR